{"text_format":"3","workbook":"xlsx","n_sheets":15,"sheets":["Титул","ПН","ВТ","ВТ Лето","СР","ЧТ","ЧТ Лето","ПТ","ПН1","ВТ1","СР1","СР1 Лето","ЧТ1","ПТ1","Среднее значение за период"],"read":"whole","date_system":"1900"}

{"sheet":"Титул","index":0,"n_rows":16,"n_cols":7,"rows_kept":16,"merged":[[1,0,1,7],[3,5,3,6],[4,5,5,7],[7,6,7,7],[8,6,9,8],[15,2,25,7]]}
[]
["Муниципальное бюджетное дошкольное образовательное учреждение Петрозаводского городского округа «Детский сад общеразвивающего вида с приоритетным осуществлением деятельности по художестенно-эстетическому развитию детей № 22 \"Яблонька\""]
[]
[]
[]
[]
[]
[{"$nulls":6},"УТВЕРЖДЕНО"]
[{"$nulls":6},"приказ  №                                                                           Заведующий                          Г.В.Чанжалова"]
[]
[]
[]
[]
[]
[]
[null,null,"          ДЕСЯТИДНЕВНОЕ МЕНЮ                 с 1 до 3 лет "]

{"sheet":"ПН","index":1,"n_rows":36,"n_cols":8,"rows_kept":36,"merged":[[1,0,1,7],[3,5,3,6],[4,5,5,7],[8,0,8,7],[9,0,10,0],[9,1,10,1],[9,2,10,2],[9,3,9,5],[9,6,10,6],[9,7,10,7],[11,0,11,6],[12,0,15,0],[17,0,18,0],[20,0,27,0],[29,0,33,0]]}
[]
["Муниципальное бюджетное дошкольное образовательное учреждение Петрозаводского городского округа «Детский сад общеразвивающего вида с приоритетным осуществлением деятельности по художестенно-эстетическому развитию детей № 22 \"Яблонька\""]
[]
[{"$nulls":5},"УТВЕРЖДЕНО"]
[{"$nulls":5},"приказ  №                                                 Заведующий                          Г.В.Чанжалова"]
[]
[]
[]
["ПОНЕДЕЛЬНИК "]
["Прием пищи","Наименование блюда","Вес блюда","Пищевые вещества  на порцию ",null,null,"Энергетическая ценность","№ рецептуры"]
[{"$nulls":3},"Белки","Жиры","Углеводы "]
["Вода питьевая детская (на весь день), 300мл",{"$nulls":6}," "]
["Завтрак ","Каша вязкая молочная Дружба",150,4.68,4.97,16.8,131,84]
[null,"Кофейный напиток с молоком",180,3.2,2.27,9.4,68,414]
[null,"Бутерброд с маслом",34,2.31,3.14,14.81,127,1]
[]
["Итого за завтрак",null,{"$f":"SUM(C13:C16)","v":364},{"$f":"SUM(D13:D16)","v":10.19},{"$f":"SUM(E13:E16)","v":10.38},{"$f":"SUM(F13:F16)","v":41.010000000000005},{"$f":"SUM(G13:G16)","v":326}," "]
["Второй завтрак","Сок ",140,0.7,null,12.74,53,418]
[null,"Кондитерские изделия",10,0.56,0.61,7.35,41,151]
["Итого за второй  завтрак",null,{"$f":"SUM(C18:C19)","v":150},{"$f":"SUM(D18:D19)","v":1.26},{"$f":"SUM(E18:E19)","v":0.61},{"$f":"SUM(F18:F19)","v":20.09},{"$f":"SUM(G18:G19)","v":94}," "]
["Обед","Суп овощной с зеленым горошком консервированным",180,0.99,1.95,7.41,51,6]
[null,"Мясной бульон",135,6.13,4.94,0.77,69,31]
[null,"Суфле мясное",60,10.24,10.57,2.12,210,188]
[null,"Соус молочный",50,1.59,0.88,4.94,35,365]
[null,"Макароны отварные",110,3.12,3.23,19.31,119,219]
[null,"Соленый огурец кусочком",30,0.24,0.03,0.45,3,70]
[null,"Компот из сухофруктов",150,0.21,0,12.89,52,394]
[null,"Хлеб ржаной",35,2.31,0.42,11.69,60,1]
["Итого за обед",null,{"$f":"SUM(C21:C28)","v":750},{"$f":"SUM(D21:D28)","v":24.83},{"$f":"SUM(E21:E28)","v":22.020000000000003},{"$f":"SUM(F21:F28)","v":59.58},{"$f":"SUM(G21:G28)","v":599}," "]
["уплотненый полдник","Крупение из творога",125,4.37,7.77,102,249,201]
[null,"Соус сметано-мясляный",20,0.51,1.78,2.19,27,451]
[null,"Молоко кипяченое",150,4.05,3.3,6.6,72,419]
[null,"Хлеб пшеничный ",30,2.28,0.24,14.76,70]
[null,"Фрукты",100,0.46,0.46,11.17,51,386]
["Итого за УП"," ",{"$f":"SUM(C30:C34)","v":425},{"$f":"SUM(D30:D34)","v":11.67},{"$f":"SUM(E30:E34)","v":13.549999999999999},{"$f":"SUM(F30:F34)","v":136.72},{"$f":"SUM(G30:G34)","v":469}," "]
["Итого за день"," ",{"$f":"(C17+C20+C29+C35)","v":1689},{"$f":"(D17+D20+D29+D37+D35)","v":47.95},{"$f":"(E17+E20+E29+E35)","v":46.56},{"$f":"(F17+F20+F29+F35)","v":257.4},{"$f":"(G17+G20+G29+G35)","v":1488}," "]

{"sheet":"ВТ","index":2,"n_rows":37,"n_cols":8,"rows_kept":37,"merged":[[1,0,2,7],[4,5,4,6],[5,5,6,7],[7,0,7,7],[8,0,9,0],[8,1,9,1],[8,2,9,2],[8,3,8,5],[8,6,9,6],[8,7,9,7],[10,0,10,6],[11,0,14,0],[16,0,17,0],[19,0,27,0],[29,0,34,0]]}
[]
["Муниципальное бюджетное дошкольное образовательное учреждение Петрозаводского городского округа «Детский сад общеразвивающего вида с приоритетным осуществлением деятельности по художестенно-эстетическому развитию детей № 22 \"Яблонька\""]
[]
[]
[{"$nulls":5},"УТВЕРЖДЕНО"]
[{"$nulls":5},"приказ  №                                                 Заведующий                      Г.В.Чанжалова"]
[]
["ВТОРНИК"]
["Прием пищи","Наименование блюда","Вес блюда","Пищевые вещества  на порцию ",null,null,"Энергетическая ценность","№ рецептуры"]
[{"$nulls":3},"Белки","Жиры","Углеводы "]
["Вода питьевая детская (на весь день), 300мл"]
["Завтрак ","Каша вязкая манная молочная",150,4.43,4.92,16.02,126,90]
[null,"Чай с молоком",180,1.14,0.88,6.75,39,261]
[null,"Бутерброд с маслм и сыром",40,3.7,4.91,14.8,118,3]
[]
["Итого за завтрак",null,{"$f":"SUM(C12:C15)","v":370},{"$f":"SUM(D12:D15)","v":9.27},{"$f":"SUM(E12:E15)","v":10.71},{"$f":"SUM(F12:F15)","v":37.57},{"$f":"SUM(G12:G15)","v":283}," "]
["Второй завтрак","Кефир",150,4.35,3.75,6,75,420]
[null,"Кондитерские изделия",10,0.56,0.61,7.35,41,151]
["Итого за второй  завтрак",null,{"$f":"SUM(C17:C18)","v":160},{"$f":"SUM(D17:D18)","v":4.91},{"$f":"SUM(E17:E18)","v":4.36},{"$f":"SUM(F17:F18)","v":13.35},{"$f":"SUM(G17:G18)","v":116}," "]
["Обед","Борщ из квашенной капусты и картофеля",180,0.97,2.78,5.36,50,66]
[null,"Печень по-строгановски",60,14.94,5.64,714,139,162]
[null,"Рис отварной",110,2.01,3.17,20.24,118,332]
[null,"Морковь отварная кусочком",30,0.4,0.03,2.08,10,427]
[null,"Компот из свежих плодов и ягод",150,0.15,0.1,9.12,38,372]
[null,"Хлеб ржаной",35,2.31,0.42,11.69,60,1]
[]
[]
[]
["Итого за обед",null,{"$f":"SUM(C20:C28)","v":565},{"$f":"SUM(D20:D28)","v":20.779999999999998},{"$f":"SUM(E20:E28)","v":12.139999999999999},{"$f":"SUM(F20:F28)","v":762.4900000000001},{"$f":"SUM(G20:G28)","v":415}," "]
["Ужин ","Картофель отварной",130,8.61,8.46,13.5,161,338]
[null,"Салат из свеклы с соленым огурцом",30,0.37,2.67,1.93,33,63]
[null,"Чай с сахаром",180,0.06,0,4.99,20,263]
[null,"Булочка домашняя",60,4.05,6.22,30.05,199,274]
[]
[]
["Итого за УП"," ",{"$f":"SUM(C30:C35)","v":400},{"$f":"SUM(D30:D35)","v":13.09},{"$f":"SUM(E30:E35)","v":17.35},{"$f":"SUM(F30:F35)","v":50.47},{"$f":"SUM(G30:G35)","v":413}," "]
["Итого за день"," ",{"$f":"SUM(C16+C19+C29+C36)","v":1495},{"$f":"SUM(D16+D19+D29+D36)","v":48.05},{"$f":"SUM(E16+E19+E29+E36)","v":44.56},{"$f":"SUM(F16+F19+F29+F36)","v":863.8800000000001},{"$f":"SUM(G16+G19+G29+G36)","v":1227}," "]

{"sheet":"ВТ Лето","index":3,"n_rows":37,"n_cols":8,"rows_kept":37,"merged":[[1,0,2,7],[4,5,4,6],[5,5,6,7],[7,0,7,7],[8,0,9,0],[8,1,9,1],[8,2,9,2],[8,3,8,5],[8,6,9,6],[8,7,9,7],[10,0,10,6],[11,0,14,0],[16,0,17,0],[19,0,27,0],[29,0,34,0]]}
[]
["Муниципальное бюджетное дошкольное образовательное учреждение Петрозаводского городского округа «Детский сад общеразвивающего вида с приоритетным осуществлением деятельности по художестенно-эстетическому развитию детей № 22 \"Яблонька\""]
[]
[]
[{"$nulls":5},"УТВЕРЖДЕНО"]
[{"$nulls":5},"приказ  №                                                 Заведующий                      Г.В.Чанжалова"]
[]
["ВТОРНИК (ЛЕТО)"]
["Прием пищи","Наименование блюда","Вес блюда","Пищевые вещества  на порцию ",null,null,"Энергетическая ценность","№ рецептуры"]
[{"$nulls":3},"Белки","Жиры","Углеводы "]
["Вода питьевая детская (на весь день), 300мл"]
["Завтрак ","Каша вязкая манная молочная",150,4.43,4.92,16.02,126,90]
[null,"Чай с молоком",180,1.14,0.88,6.75,39,261]
[null,"Бутерброд с маслм и сыром",40,3.7,4.91,14.8,118,3]
[]
["Итого за завтрак",null,{"$f":"SUM(C12:C15)","v":370},{"$f":"SUM(D12:D15)","v":9.27},{"$f":"SUM(E12:E15)","v":10.71},{"$f":"SUM(F12:F15)","v":37.57},{"$f":"SUM(G12:G15)","v":283}," "]
["Второй завтрак","Кефир",150,4.35,3.75,6,75,420]
[null,"Кондитерские изделия",10,0.56,0.61,7.35,41,151]
["Итого за второй  завтрак",null,{"$f":"SUM(C17:C18)","v":160},{"$f":"SUM(D17:D18)","v":4.91},{"$f":"SUM(E17:E18)","v":4.36},{"$f":"SUM(F17:F18)","v":13.35},{"$f":"SUM(G17:G18)","v":116}," "]
["Обед","Борщ из свежей капусты и картофеля",180,3.85,4.68,7.68,87,66]
[null,"Печень по-строгановски",60,14.94,5.64,714,139,162]
[null,"Рис отварной",110,2.01,3.17,20.24,118,332]
[null,"Свежий огурец кусочком",30,0.24,0.03,0.75,4,70]
[null,"Компот из свежих плодов и ягод",150,0.15,0.1,9.12,38,372]
[null,"Хлеб ржаной",35,2.31,0.42,11.69,60,1]
[]
[]
[]
["Итого за обед",null,{"$f":"SUM(C20:C28)","v":565},{"$f":"SUM(D20:D28)","v":23.499999999999993},{"$f":"SUM(E20:E28)","v":14.04},{"$f":"SUM(F20:F28)","v":763.48},{"$f":"SUM(G20:G28)","v":446}," "]
["Ужин ","Картофель отварной",130,8.61,8.46,13.5,161,338]
[null,"Салат из свеклы с соленым огурцом",30,0.37,2.67,1.93,33,63]
[null,"Чай с сахаром",180,0.06,0,4.99,20,263]
[null,"Булочка домашняя",60,4.05,6.22,30.05,199,274]
[]
[]
["Итого за УП"," ",{"$f":"SUM(C30:C35)","v":400},{"$f":"SUM(D30:D35)","v":13.09},{"$f":"SUM(E30:E35)","v":17.35},{"$f":"SUM(F30:F35)","v":50.47},{"$f":"SUM(G30:G35)","v":413}," "]
["Итого за день"," ",{"$f":"SUM(C16+C19+C29+C36)","v":1495},{"$f":"SUM(D16+D19+D29+D36)","v":50.769999999999996},{"$f":"SUM(E16+E19+E29+E36)","v":46.46},{"$f":"SUM(F16+F19+F29+F36)","v":864.87},{"$f":"SUM(G16+G19+G29+G36)","v":1258}," "]

{"sheet":"СР","index":4,"n_rows":35,"n_cols":8,"rows_kept":35,"merged":[[1,0,2,7],[4,5,4,6],[5,5,6,7],[8,0,8,7],[9,0,10,0],[9,1,10,1],[9,2,10,2],[9,3,9,5],[9,6,10,6],[9,7,10,7],[11,0,11,6],[12,0,15,0],[17,0,18,0],[20,0,26,0],[28,0,32,0]]}
[]
["Муниципальное бюджетное дошкольное образовательное учреждение Петрозаводского городского округа «Детский сад общеразвивающего вида с приоритетным осуществлением деятельности по художестенно-эстетическому развитию детей № 22 \"Яблонька\""]
[]
[]
[{"$nulls":5},"УТВЕРЖДЕНО"]
[{"$nulls":5},"приказ  №                                                 Заведующий                    Г.В.Чанжалова"]
[]
[]
["СРЕДА"]
["Прием пищи","Наименование блюда","Вес блюда","Пищевые вещества  на порцию ",null,null,"Энергетическая ценность","№ рецептуры"]
[{"$nulls":3},"Белки","Жиры","Углеводы "]
["Вода питьевая детская (на весь день), 300мл",{"$nulls":6}," "]
["Завтрак ","Каша вязкая рисовая молочная",150,4.19,4.68,17.73,130,98]
[null,"Какао с молоком",180,3,2.26,9.42,68,416]
[null,"Бутерброд с маслом",34,2.31,3.14,14.81,127,1]
[]
["Итого за завтрак",null,{"$f":"SUM(C13:C16)","v":364},{"$f":"SUM(D13:D16)","v":9.5},10.08,41.96,{"$f":"SUM(G13:G16)","v":325}," "]
["Второй завтрак","Сок ",140,0.7,0,12.74,53,418]
[null,"Кондитерские изделия",10,0.56,0.61,7.35,41,151]
["Итого за второй  завтрак",null,{"$f":"SUM(C18:C19)","v":150},{"$f":"SUM(D18:D19)","v":1.26},0.61,20.09,94," "]
["Обед","Суп щи из свежей капусты",180,3.95,4.69,6.68,83,56]
[null,"Мясной бульон",135,6.13,4.94,0.77,69,31]
[null,"Гуляш из отварного мяса",60,13,11.79,4.65,171,293]
[null,"Греча отварная рассыпчатая",110,3.57,3.77,15.65,111,243]
[null,"Свекла кусочком",30,0.46,0.03,2.64,12,427]
[null,"Компот из изюма и кураги",150,0.36,0.04,12.3,51,394]
[null,"Хлеб ржаной",35,2.31,0.42,11.69,60,1]
["Итого за обед",null,{"$f":"SUM(C21:C27)","v":700},{"$f":"SUM(D21:D27)","v":29.779999999999998},{"$f":"SUM(E21:E27)","v":25.680000000000003},{"$f":"SUM(F21:F27)","v":54.379999999999995},{"$f":"SUM(G21:G27)","v":557}," "]
["Уплотненный полдник","Омлет с зеленым горошком",130,1.57,5.76,2.27,277,111]
[null,"Чай с молоком",180,1.14,0.88,6.75,39,261]
[null,"Хлеб пшеничный",30,2.28,0.24,14.76,70]
[null,"Фрукты",100,0.46,0.46,11.17,51,386]
[]
["Итого за УП",null,{"$f":"SUM(C29:C33)","v":440},{"$f":"SUM(D29:D33)","v":5.45},{"$f":"SUM(E29:E33)","v":7.34},{"$f":"SUM(F29:F33)","v":34.95},{"$f":"SUM(G29:G33)","v":437}," "]
["Итого за день"," ",{"$f":"SUM(C17+C20+C28+C34)","v":1654},{"$f":"SUM(D17+D20+D28+D34)","v":45.99},{"$f":"SUM(E17+E20+E28+E34)","v":43.71000000000001},{"$f":"SUM(F17+F20+F28+F34)","v":151.38},{"$f":"SUM(G17+G20+G28+G34)","v":1413}," "]

{"sheet":"ЧТ","index":5,"n_rows":36,"n_cols":8,"rows_kept":36,"merged":[[1,0,1,7],[3,5,3,6],[4,5,5,7],[7,0,7,7],[8,0,9,0],[8,1,9,1],[8,2,9,2],[8,3,8,5],[8,6,9,6],[8,7,9,7],[10,0,10,6],[11,0,14,0],[16,0,17,0],[19,0,26,0],[28,0,33,0]]}
[]
["Муниципальное бюджетное дошкольное образовательное учреждение Петрозаводского городского округа «Детский сад общеразвивающего вида с приоритетным осуществлением деятельности по художестенно-эстетическому развитию детей № 22 \"Яблонька"]
[]
[{"$nulls":5},"УТВЕРЖДЕНО"]
[{"$nulls":5},"приказ  №                                                 Заведующий                     Г.В.Чанжалова"]
[]
[]
["ЧЕТВЕРГ"]
["Прием пищи","Наименование блюда","Вес блюда","Пищевые вещества  на порцию ",null,null,"Энергетическая ценность","№ рецептуры"]
[{"$nulls":3},"Белки","Жиры","Углеводы "]
["Вода питьевая детская (на весь день), 300мл"]
["Завтрак ","Каша вязкая геркулесовая молочная",150,6.46,6.84,16.09,151,93]
[null,"Чай с молоком",180,1.14,0.88,6.75,39,261]
[null,"Бутерброд с маслом",34,2.31,3.14,14.81,127,1]
[]
["Итого за завтрак"," ",{"$f":"SUM(C12:C15)","v":364},{"$f":"SUM(D12:D15)","v":9.91},{"$f":"SUM(E12:E15)","v":10.86},{"$f":"SUM(F12:F15)","v":37.65},{"$f":"SUM(G12:G15)","v":317}," "]
["Второй завтрак","Кефир",150,4.35,3.75,6,75,420]
[null,"Кондитерские изделия",10,0.56,0.61,7.35,41,151]
["Итого за второй  завтрак",null,{"$f":"SUM(C17:C18)","v":160},{"$f":"SUM(D17:D18)","v":4.91},{"$f":"SUM(E17:E18)","v":4.36},{"$f":"SUM(F17:F18)","v":13.35},{"$f":"SUM(G17:G18)","v":116}," "]
["Обед","Суп рассольник Домашний",180,2.62,3.97,5.94,69,137]
[null,"Мясной бульон",135,6.13,4.94,0.77,69,31]
[null,"Котлета рыбная",60,10,1.6,4.97,92,351]
[null,"Соус молочный",50,1.59,0.88,4.94,35,365]
[null,"Картофельное пюре",110,2.58,3.78,16.37,109,206]
[null,"Салат из квашенной капусты",30,0.09,2.9,1.5,31,16]
[null,"Компот из свежих плодов и изюма",150,0.2,0.08,12.36,51,373]
[null,"Хлеб ржаной",35,2.31,0.42,11.69,60,1]
["Итого за обед",null,{"$f":"SUM(C20:C27)","v":750},{"$f":"SUM(D20:D27)","v":25.52},{"$f":"SUM(E20:E27)","v":18.57},{"$f":"SUM(F20:F27)","v":58.54},{"$f":"SUM(G20:G27)","v":516}," "]
["Употненный полдник","Овощи тушеные с мясом",180,8.61,8.46,13.5,161,338]
[null,"Чай с сахаром",180,0.06,0,4.99,20,263]
[null,"Шанежка наливная с яйцом и сыром",55,7.02,6.64,28.36,257.84,571]
[]
[]
[]
["Итого заУП"," ",{"$f":"SUM(C29:C34)","v":415},{"$f":"SUM(D29:D34)","v":15.69},{"$f":"SUM(E29:E34)","v":15.100000000000001},{"$f":"SUM(F29:F34)","v":46.85},{"$f":"SUM(G29:G34)","v":438.84}," "]
["Итого за день"," ",{"$f":"SUM(C16+C19+C28+C35)","v":1689},{"$f":"SUM(D16+D19+D28+D35)","v":56.03},{"$f":"SUM(E16+E19+E28+E35)","v":48.89},{"$f":"SUM(F16+F19+F28+F35)","v":156.39},{"$f":"SUM(G16+G19+G28+G35)","v":1387.84}," "]

{"sheet":"ЧТ Лето","index":6,"n_rows":36,"n_cols":8,"rows_kept":36,"merged":[[1,0,1,7],[3,5,3,6],[4,5,5,7],[7,0,7,7],[8,0,9,0],[8,1,9,1],[8,2,9,2],[8,3,8,5],[8,6,9,6],[8,7,9,7],[10,0,10,6],[11,0,14,0],[16,0,17,0],[19,0,26,0],[28,0,33,0]]}
[]
["Муниципальное бюджетное дошкольное образовательное учреждение Петрозаводского городского округа «Детский сад общеразвивающего вида с приоритетным осуществлением деятельности по художестенно-эстетическому развитию детей № 22 \"Яблонька"]
[]
[{"$nulls":5},"УТВЕРЖДЕНО"]
[{"$nulls":5},"приказ  №                                                 Заведующий                     Г.В.Чанжалова"]
[]
[]
["ЧЕТВЕРГ (ЛЕТО)"]
["Прием пищи","Наименование блюда","Вес блюда","Пищевые вещества  на порцию ",null,null,"Энергетическая ценность","№ рецептуры"]
[{"$nulls":3},"Белки","Жиры","Углеводы "]
["Вода питьевая детская (на весь день), 300мл"]
["Завтрак ","Каша вязкая геркулесовая молочная",150,6.46,6.84,16.09,151,93]
[null,"Чай с молоком",180,1.14,0.88,6.75,39,261]
[null,"Бутерброд с маслом",34,2.31,3.14,14.81,127,1]
[]
["Итого за завтрак"," ",{"$f":"SUM(C12:C15)","v":364},{"$f":"SUM(D12:D15)","v":9.91},{"$f":"SUM(E12:E15)","v":10.86},{"$f":"SUM(F12:F15)","v":37.65},{"$f":"SUM(G12:G15)","v":317}," "]
["Второй завтрак","Кефир",150,4.35,3.75,6,75,420]
[null,"Кондитерские изделия",10,0.56,0.61,7.35,41,151]
["Итого за второй  завтрак",null,{"$f":"SUM(C17:C18)","v":160},{"$f":"SUM(D17:D18)","v":4.91},{"$f":"SUM(E17:E18)","v":4.36},{"$f":"SUM(F17:F18)","v":13.35},{"$f":"SUM(G17:G18)","v":116}," "]
["Обед","Суп рассольник Домашний",180,2.62,3.97,5.94,69,137]
[null,"Мясной бульон",135,6.13,4.94,0.77,69,31]
[null,"Котлета рыбная",60,10,1.6,4.97,92,351]
[null,"Соус молочный",50,1.59,0.88,4.94,35,365]
[null,"Картофельное пюре",110,2.58,3.78,16.37,109,206]
[null,"Салат из свежих помидоров и огурцов",30,0.29,1.8,0.92,21,15]
[null,"Компот из свежих плодов и изюма",150,0.2,0.08,12.36,51,373]
[null,"Хлеб ржаной",35,2.31,0.42,11.69,60,1]
["Итого за обед",null,{"$f":"SUM(C20:C27)","v":750},{"$f":"SUM(D20:D27)","v":25.72},{"$f":"SUM(E20:E27)","v":17.47},{"$f":"SUM(F20:F27)","v":57.96},{"$f":"SUM(G20:G27)","v":506}," "]
["Употненный полдник","Овощи тушеные с мясом",180,9.8,8.4,10.75,145,338]
[null,"Чай с сахаром",180,0.06,0,4.99,20,263]
[null,"Шанежка с сыром",55,7.02,6.64,28.36,257.84,571]
[]
[]
[]
["Итого заУП"," ",{"$f":"SUM(C29:C34)","v":415},{"$f":"SUM(D29:D34)","v":16.880000000000003},{"$f":"SUM(E29:E34)","v":15.04},{"$f":"SUM(F29:F34)","v":44.1},{"$f":"SUM(G29:G34)","v":422.84}," "]
["Итого за день"," ",{"$f":"SUM(C16+C19+C28+C35)","v":1689},{"$f":"SUM(D16+D19+D28+D35)","v":57.42},{"$f":"SUM(E16+E19+E28+E35)","v":47.73},{"$f":"SUM(F16+F19+F28+F35)","v":153.06},{"$f":"SUM(G16+G19+G28+G35)","v":1361.84}," "]

{"sheet":"ПТ","index":7,"n_rows":33,"n_cols":8,"rows_kept":33,"merged":[[1,0,2,7],[4,5,4,6],[5,5,6,7],[8,0,8,7],[9,0,10,0],[9,1,10,1],[9,2,10,2],[9,3,9,5],[9,6,10,6],[9,7,10,7],[11,0,11,6],[12,0,14,0],[17,0,18,0],[20,0,24,0],[26,0,30,0]]}
[]
["Муниципальное бюджетное дошкольное образовательное учреждение Петрозаводского городского округа «Детский сад общеразвивающего вида с приоритетным осуществлением деятельности по художестенно-эстетическому развитию детей № 22 \"Яблонька"]
[]
[]
[{"$nulls":5},"УТВЕРЖДЕНО"]
[null," ",{"$nulls":3},"приказ  №                                                 Заведующий                     Г.В.Чанжалова"]
[{"$nulls":3}," "]
[]
["ПЯТНИЦА"]
["Прием пищи","Наименование блюда","Вес блюда","Пищевые вещества  на порцию ",null,null,"Энергетическая ценность","№ рецептуры"]
[{"$nulls":3},"Белки","Жиры","Углеводы "]
["Вода питьевая детская (на весь день), 300мл"]
["Завтрак ","Пудинг из творога",130,4.89,5.56,115.48,245,126]
[null,"Соус молочный",50,1.59,0.88,4.94,35,365]
[null,"Кофейный напиток с молоком",180,3.2,2.27,9.4,68,414]
[null,"Бутерброд с маслом",34,2.31,3.14,14.81,127,1]
["Итого за завтрак"," ",{"$f":"SUM(C13:C16)","v":394},{"$f":"SUM(D13:D16)","v":11.99},{"$f":"SUM(E13:E16)","v":11.85},{"$f":"SUM(F13:F16)","v":144.63},{"$f":"SUM(G13:G16)","v":475}," "]
["Второй завтрак","Сок ",140,0.7,null,12.74,53,418]
[null,"Кондитерские изделия",10,0.56,0.61,7.35,41,151]
["Итого за второй  завтрак"," ",{"$f":"SUM(C18:C19)","v":150},{"$f":"SUM(D19:D19)","v":0.56},{"$f":"SUM(E19:E19)","v":0.61},{"$f":"SUM(F19:F19)","v":7.35},{"$f":"SUM(G19:G19)","v":41}," "]
["Обед","Суп картофельный с мясными фрикадельками",180,5.58,5.63,8.12,117,39]
[null,"Капуста тушеная с мясом куры",180,17.43,16.26,8.86,250,354]
[null,"Компот из сухофруктов",150,0.21,0,12.89,52,394]
[null,"Хлеб ржаной",35,2.31,0.42,11.69,60,1]
[]
["Итого за обед"," ",{"$f":"SUM(C21:C25)","v":545},{"$f":"SUM(D21:D25)","v":25.529999999999998},{"$f":"SUM(E21:E25)","v":22.310000000000002},{"$f":"SUM(F21:F25)","v":41.559999999999995},{"$f":"SUM(G21:G25)","v":479}," "]
["Уплотненный полдник","Драчена",115,2.14,6.68,5.05,299,242]
[null,"Морковь отварная кусочком",30,0.4,0.03,2.08,10,427]
[null,"Чай с молоком",180,1.14,0.88,6.75,39,261]
[null,"Хлеб пшеничный",30,2.28,0.24,14.76,70]
[null,"Фрукты",100,0.46,0.46,11.17,51,386]
["Итого за УП"," ",{"$f":"SUM(C27:C31)","v":455},{"$f":"SUM(D27:D31)","v":6.419999999999999},{"$f":"SUM(E27:E31)","v":8.290000000000001},{"$f":"SUM(F27:F31)","v":39.81},{"$f":"SUM(G27:G31)","v":469}," "]
["Итого за день"," ",{"$f":"SUM(C17+C20+C26+C32)","v":1544},{"$f":"SUM(D17+D20+D26+D32)","v":44.5},{"$f":"SUM(E17+E20+E26+E32)","v":43.06},{"$f":"SUM(F17+F20+F26+F32)","v":233.35},{"$f":"SUM(G17+G20+G26+G32)","v":1464}," "]

{"sheet":"ПН1","index":8,"n_rows":35,"n_cols":8,"rows_kept":35,"merged":[[1,0,1,7],[3,5,3,6],[4,5,5,7],[8,0,8,7],[9,0,10,0],[9,1,10,1],[9,2,10,2],[9,3,9,5],[9,6,10,6],[9,7,10,7],[11,0,11,6],[12,0,15,0],[17,0,18,0],[20,0,26,0],[28,0,32,0]]}
[]
["Муниципальное бюджетное дошкольное образовательное учреждение Петрозаводского городского округа «Детский сад общеразвивающего вида с приоритетным осуществлением деятельности по художестенно-эстетическому развитию детей № 22 \"Яблонька\""]
[]
[{"$nulls":5},"УТВЕРЖДЕНО"]
[{"$nulls":5},"приказ  №                                                 Заведующий                          Г.В.Чанжалова"]
[]
[]
[]
["ПОНЕДЕЛЬНИК"]
["Прием пищи","Наименование блюда","Вес блюда","Пищевые вещества  на порцию ",null,null,"Энергетическая ценность","№ рецептуры"]
[{"$nulls":3},"Белки","Жиры","Углеводы "]
["Вода питьевая детская (на весь день), 300мл",{"$nulls":6}," "]
["Завтрак ","Каша вязкая ячневая молочная",150,4.58,4.97,16.64,130,99]
[null,"Кофейный напиток с молоком",180,3.2,2.27,9.4,68,414]
[null,"Бутерброд с маслом и сыром",40,3.7,4.91,14.8,118,3]
[]
["Итого за завтрак"," ",{"$f":"SUM(C13:C16)","v":370},{"$f":"SUM(D13:D16)","v":11.48},{"$f":"SUM(E13:E16)","v":12.15},{"$f":"SUM(F13:F16)","v":40.84},{"$f":"SUM(G13:G16)","v":316}," "]
["Второй завтрак","Сок ",140,0.7,0,12.74,53,418]
[null,"Кондитерские изделия",10,0.56,0.61,7.35,41,151]
["Итого за второй  завтрак"," ",{"$f":"SUM(C18:C19)","v":150},{"$f":"SUM(D18:D19)","v":1.26},{"$f":"SUM(E18:E19)","v":0.61},{"$f":"SUM(F18:F19)","v":20.09},{"$f":"SUM(G18:G19)","v":94}," "]
["Обед","Суп Шахтерский",180,4.22,4.85,10.05,99,101]
[null,"Мясной бульон",135,6.13,4.94,0.77,69,31]
[null,"Бефстроганов из отварной говядины",60,13.06,12.84,4.49,180,372]
[null,"Рис отварной",110,2.01,3.17,20.24,118,332]
[null,"Соленый огурец кусочком",30,0.24,0.03,0.45,3,70]
[null,"Компот из сухофруктов",150,0.21,0,12.89,52,394]
[null,"Хлеб ржаной",35,2.31,0.42,11.69,60,1]
["Итого за обед"," ",{"$f":"SUM(C21:C27)","v":700},{"$f":"SUM(D21:D27)","v":28.18},{"$f":"SUM(E21:E27)","v":26.25},{"$f":"SUM(F21:F27)","v":60.58},{"$f":"SUM(G21:G27)","v":581}," "]
["уплотненый полдник","Омлет паровой натуральный",115,1.57,5.76,2.27,277,237]
[null,"Салат из моркови с зеленым горошком",30,0.28,3.1,2.52,37,11]
[null,"Чай с молоком",180,1.14,0.88,6.75,39,261]
[null,"Хлеб пшеничный",30,2.28,0.24,14.76,70]
[null,"Фрукты",100,0.46,0.46,11.17,51,386]
["Итого за УП"," ",{"$f":"SUM(C29:C33)","v":455},{"$f":"SUM(D29:D33)","v":5.7299999999999995},{"$f":"SUM(E29:E33)","v":10.440000000000001},{"$f":"SUM(F29:F33)","v":37.47},{"$f":"SUM(G29:G33)","v":474}," "]
["Итого за день"," ",{"$f":"(C17+C20+C28+C34)","v":1675},{"$f":"SUM(D17+D20+D28+D34)","v":46.65},{"$f":"(E17+E20+E28+E34)","v":49.45},{"$f":"(F17+F20+F28+F34)","v":158.98000000000002},{"$f":"(G17+G20+G28+G34)","v":1465}," "]

{"sheet":"ВТ1","index":9,"n_rows":38,"n_cols":8,"rows_kept":38,"merged":[[1,0,2,7],[4,5,4,6],[5,5,6,7],[7,0,7,7],[8,0,9,0],[8,1,9,1],[8,2,9,2],[8,3,8,5],[8,6,9,6],[8,7,9,7],[10,0,10,6],[11,0,14,0],[16,0,17,0],[19,0,27,0],[30,0,35,0]]}
[]
["Муниципальное бюджетное дошкольное образовательное учреждение Петрозаводского городского округа «Детский сад общеразвивающего вида с приоритетным осуществлением деятельности по художестенно-эстетическому развитию детей № 22 \"Яблонька\""]
[]
[]
[{"$nulls":5},"УТВЕРЖДЕНО"]
[{"$nulls":5},"приказ  №                                                 Заведующий                      Г.В.Чанжалова"]
[]
["ВТОРНИК"]
["Прием пищи","Наименование блюда","Вес блюда","Пищевые вещества  на порцию ",null,null,"Энергетическая ценность","№ рецептуры"]
[{"$nulls":3},"Белки","Жиры","Углеводы "]
["Вода питьевая детская (на весь день), 300мл"]
["Завтрак ","Каша пшенная молочная",150,5.21,5.34,19.2,146,96]
[null,"Чай с молоком",180,1.14,0.88,6.75,39,261]
[null,"Бутерброд с маслом",34,2.31,3.14,14.81,127,1]
[]
["Итого за завтрак",null,{"$f":"SUM(C12:C15)","v":364},{"$f":"SUM(D12:D15)","v":8.66},{"$f":"SUM(E12:E15)","v":9.36},{"$f":"SUM(F12:F15)","v":40.76},{"$f":"SUM(G12:G15)","v":312}," "]
["Второй завтрак","Кефир ",150,4.35,3.75,6,75,420]
[null,"Кондитерские изделия",10,0.56,0.61,7.35,41,151]
["Итого за второй  завтрак",null,{"$f":"SUM(C17:C18)","v":160},{"$f":"SUM(D17:D18)","v":4.91},{"$f":"SUM(E17:E18)","v":4.36},{"$f":"SUM(F17:F18)","v":13.35},{"$f":"SUM(G17:G18)","v":116}," "]
["Обед","Суп картофельный с бобовыми",180,6.21,4.33,14.56,120,87]
[null,"Мясной бульон",135,6.13,4.94,0.77,69,31]
[null,"Печень тушеная в соусе",80,14.94,6.36,7.08,145,162]
[null,"Греча отварная рассыпчатая",110,3.57,3.77,15.65,111,243]
[null,"Салат из свеклы с чесноком",30,0.42,2.67,2.4,35,22]
[null,"Кисель из ягод",150,0.1,0.04,8.64,35,396]
[null,"Хлеб ржаной",35,2.31,0.42,11.69,60,1]
[]
[]
["Итого за обед",null,{"$f":"SUM(C20:C28)","v":720},{"$f":"SUM(D20:D28)","v":33.68000000000001},{"$f":"SUM(E20:E28)","v":22.53},{"$f":"SUM(F20:F28)","v":60.79},{"$f":"SUM(G20:G28)","v":575}," "]
["Итого за полдник",null," "," "," "," "," "," "]
["Уплотненный полдник","Голубцы ленивые с мясом",170,11.81,11.13,10.16,183,378]
[null,"Чай с сахаром",180,0.06,0,4.99,20,263]
[null,"Булочка молочная",45,4.7,3.67,28.37,187,585]
[]
[]
[]
["Итого за УП"," ",{"$f":"SUM(C31:C36)","v":395},{"$f":"SUM(D31:D36)","v":16.57},{"$f":"SUM(E31:E36)","v":14.8},{"$f":"SUM(F31:F36)","v":43.52},{"$f":"SUM(G31:G36)","v":390}," "]
["Итого за день"," ",{"$f":"SUM(C16+C19+C29+C37)","v":1639},{"$f":"SUM(D16+D19+D29+D37)","v":63.82000000000001},51.05,158.42000000000002,1393," "]

{"sheet":"СР1","index":10,"n_rows":36,"n_cols":12,"rows_kept":36,"merged":[[1,0,2,7],[4,5,4,6],[5,5,6,7],[8,0,8,7],[9,0,10,0],[9,1,10,1],[9,2,10,2],[9,3,9,5],[9,6,10,6],[9,7,10,7],[11,0,11,6],[12,0,15,0],[17,0,18,0],[20,0,27,0],[29,0,33,0]]}
[]
["Муниципальное бюджетное дошкольное образовательное учреждение Петрозаводского городского округа «Детский сад общеразвивающего вида с приоритетным осуществлением деятельности по художестенно-эстетическому развитию детей № 22 \"Яблонька\""]
[]
[]
[{"$nulls":5},"УТВЕРЖДЕНО"]
[{"$nulls":5},"приказ  №                                                 Заведующий                    Г.В.Чанжалова"]
[]
[]
["СРЕДА"]
["Прием пищи","Наименование блюда","Вес блюда","Пищевые вещества  на порцию ",null,null,"Энергетическая ценность","№ рецептуры"]
[{"$nulls":3},"Белки","Жиры","Углеводы "]
["Вода питьевая детская (на весь день), 300мл",{"$nulls":6}," "]
["Завтрак ","Каша вязкая пшеничная",150,4.78,4.97,16.97,132,91]
[null,"Какао с молоком",180,3,2.26,9.42,68,416]
[null,"Бутерброд с маслом и сыром",40,3.7,4.91,14.8,118,3]
[]
["Итого за завтрак"," ",{"$f":"SUM(C13:C16)","v":370},{"$f":"SUM(D13:D16)","v":11.48},12.14,41.19,318," "]
["Второй завтрак","Сок ",140,0.7,null,12.74,53,418]
[null,"Кондитерские изделия",10,0.56,0.61,7.35,41,151]
["Итого за второй  завтрак"," ",{"$f":"SUM(C18:C19)","v":150},{"$f":"SUM(D18:D19)","v":1.26},0.61,20.09,94," "]
["Обед","Суп свекольник с мясом и сметаной",180,5.3,5.27,11.27,112,34]
[null,"Рыба запеченная с картофелем по-русски.",180,12.76,5.46,17.09,168,346]
[null,"Салат из квашеной капусты",30,0.09,2.9,1.5,31,16]
[null,"Компот из изюма и кураги",150,0.36,0.04,12.3,51,394]
[null,"Хлеб ржаной",35,2.31,0.42,11.69,60,1]
[]
[]
[]
["Итого за обед"," ",{"$f":"SUM(C21:C28)","v":575},{"$f":"SUM(D21:D28)","v":20.819999999999997},14.09,53.849999999999994,422," "]
["Уплотненный полдник","Сырники из творога с повидлом",115,5.16,4.5,126,223,245]
[null,"Молоко кипяченое",150,4.05,3.3,6.6,72,419,{"$nulls":3}," "]
[null,"Хлеб пшеничный",30,2.28,0.24,14.76,70]
[null,"Фрукты",100,1.5,0.5,21,95,386," "," "," "]
[]
["Итого за УП",null,{"$f":"SUM(C30:C34)","v":395},{"$f":"SUM(D30:D34)","v":12.99},{"$f":"SUM(E30:E34)","v":8.54},{"$f":"SUM(F30:F34)","v":168.35999999999999},{"$f":"SUM(G30:G34)","v":460}," "]
["Итого за день"," ",{"$f":"SUM(C17+C20+C29+C35)","v":1490},{"$f":"SUM(D17+D20+D29+D35)","v":46.55},{"$f":"SUM(E17+E20+E29+E35)","v":35.379999999999995},{"$f":"SUM(F17+F20+F29+F35)","v":283.49},{"$f":"SUM(G17+G20+G29+G35)","v":1294}," "]

{"sheet":"СР1 Лето","index":11,"n_rows":36,"n_cols":12,"rows_kept":36,"merged":[[1,0,2,7],[4,5,4,6],[5,5,6,7],[8,0,8,7],[9,0,10,0],[9,1,10,1],[9,2,10,2],[9,3,9,5],[9,6,10,6],[9,7,10,7],[11,0,11,6],[12,0,15,0],[17,0,18,0],[20,0,27,0],[29,0,33,0]]}
[]
["Муниципальное бюджетное дошкольное образовательное учреждение Петрозаводского городского округа «Детский сад общеразвивающего вида с приоритетным осуществлением деятельности по художестенно-эстетическому развитию детей № 22 \"Яблонька\""]
[]
[]
[{"$nulls":5},"УТВЕРЖДЕНО"]
[{"$nulls":5},"приказ  №                                                 Заведующий                    Г.В.Чанжалова"]
[]
[]
["СРЕДА (ЛЕТО)"]
["Прием пищи","Наименование блюда","Вес блюда","Пищевые вещества  на порцию ",null,null,"Энергетическая ценность","№ рецептуры"]
[{"$nulls":3},"Белки","Жиры","Углеводы "]
["Вода питьевая детская (на весь день), 300мл",{"$nulls":6}," "]
["Завтрак ","Каша вязкая пшеничная",150,4.78,4.97,16.97,132,91]
[null,"Какао с молоком",180,3,2.26,9.42,68,416]
[null,"Бутерброд с маслом и сыром",40,3.7,4.91,14.8,118,3]
[]
["Итого за завтрак"," ",{"$f":"SUM(C13:C16)","v":370},{"$f":"SUM(D13:D16)","v":11.48},12.14,41.19,318," "]
["Второй завтрак","Сок ",140,0.7,null,12.74,53,418]
[null,"Кондитерские изделия",10,0.56,0.61,7.35,41,151]
["Итого за второй  завтрак"," ",{"$f":"SUM(C18:C19)","v":150},{"$f":"SUM(D18:D19)","v":1.26},0.61,20.09,94," "]
["Обед","Суп свекольник с мясом и сметаной",180,5.3,5.27,11.27,112,34]
[null,"Рыба по-польски",90,15.87,3.44,3.23,143,256]
[null,"Пюре картофельное",110,2.58,3.78,16.37,109,206]
[null,"Салат из свежего огурца",30,0.22,2.67,0.7,28,15]
[null,"Компот из изюма и кураги",150,0.36,0.04,12.3,51,394]
[null,"Хлеб ржаной",35,2.31,0.42,11.69,60,1]
[]
[]
["Итого за обед"," ",{"$f":"SUM(C21:C28)","v":595},{"$f":"SUM(D21:D28)","v":26.639999999999997},15.619999999999997,55.56,503," "]
["Уплотненный полдник","Сырники из творога с повидлом",115,5.16,4.5,126,223,245]
[null,"Молоко кипяченое",150,4.05,3.3,6.6,72,419,{"$nulls":3}," "]
[null,"Хлеб пшеничный",30,2.28,0.24,14.76,70]
[null,"Фрукты",100,1.5,0.5,21,95,386," "," "," "]
[]
["Итого за УП",null,{"$f":"SUM(C30:C34)","v":395},{"$f":"SUM(D30:D34)","v":12.99},{"$f":"SUM(E30:E34)","v":8.54},{"$f":"SUM(F30:F34)","v":168.35999999999999},{"$f":"SUM(G30:G34)","v":460}," "]
["Итого за день"," ",{"$f":"SUM(C17+C20+C29+C35)","v":1510},{"$f":"SUM(D17+D20+D29+D35)","v":52.37},{"$f":"SUM(E17+E20+E29+E35)","v":36.91},{"$f":"SUM(F17+F20+F29+F35)","v":285.2},{"$f":"SUM(G17+G20+G29+G35)","v":1375}," "]

{"sheet":"ЧТ1","index":12,"n_rows":35,"n_cols":8,"rows_kept":35,"merged":[[1,0,1,7],[3,5,3,6],[4,5,5,7],[7,0,7,7],[8,0,9,0],[8,1,9,1],[8,2,9,2],[8,3,8,5],[8,6,9,6],[8,7,9,7],[10,0,10,6],[11,0,15,0],[17,0,18,0],[20,0,25,0],[27,0,32,0]]}
[]
["Муниципальное бюджетное дошкольное образовательное учреждение Петрозаводского городского округа «Детский сад общеразвивающего вида с приоритетным осуществлением деятельности по художестенно-эстетическому развитию детей № 22 \"Яблонька"]
[]
[{"$nulls":5},"УТВЕРЖДЕНО"]
[{"$nulls":5},"приказ  №                                                 Заведующий                     Г.В.Чанжалова"]
[]
[]
["ЧЕТВЕРГ"]
["Прием пищи","Наименование блюда","Вес блюда","Пищевые вещества  на порцию ",null,null,"Энергетическая ценность","№ рецептуры"]
[{"$nulls":3},"Белки","Жиры","Углеводы "]
["Вода питьевая детская (на весь день), 300мл"]
["Завтрак ","Омлет с сыром"]
[null,"Морковь отварная кусочком",30,0.4,0.03,2.08,10,427]
[null,"Чай с молоком",180,1.14,0.88,6.75,39,261]
[null,"Бутерброд с маслом",34,2.31,3.14,14.81,127,1]
[]
["Итого за завтрак"," ",{"$f":"SUM(C12:C16)","v":244},{"$f":"SUM(D12:D16)","v":3.85},{"$f":"SUM(E12:E16)","v":4.05},{"$f":"SUM(F12:F16)","v":23.64},{"$f":"SUM(G12:G16)","v":176}," "]
["Второй завтрак","Кефир ",150,4.35,3.75,6,75,420]
[null,"Кондитерские изделия",10,0.56,0.61,7.35,41,151]
["Итого за второй  завтрак"," ",{"$f":"SUM(C18:C19)","v":160},{"$f":"SUM(D18:D19)","v":4.91},{"$f":"SUM(E18:E19)","v":4.36},{"$f":"SUM(F18:F19)","v":13.35},{"$f":"SUM(G18:G19)","v":116}," "]
["Обед","Солянка рыбная со сметаной",180,9.35,2.86,6.63,90,142]
[null,"Жароке с мясом",160,11.77,12.85,17.41,227,153]
[null,"Салат из свеклы",30,0.42,2.67,2.4,35,33]
[null,"Компот из свежих плодов и кураги",150,0.39,0.07,11.41,48,373]
[null,"Хлеб ржаной",35,2.31,0.42,11.69,60,1]
[]
["Итого за обед",null,{"$f":"SUM(C21:C26)","v":555},{"$f":"SUM(D21:D26)","v":24.24},{"$f":"SUM(E21:E26)","v":18.87},{"$f":"SUM(F21:F26)","v":49.53999999999999},{"$f":"SUM(G21:G26)","v":460}," "]
["Уплотненный полдник","Вермишель отварная на молоке",150,4.71,7.71,17.3,130,18]
[null,"Чай с сахаром",180,0.06,0,4.99,20,263]
[null,"Ватрушка с творогом",55,5.68,4.27,58,231,289]
[]
[]
[]
["Итого за УП"," ",{"$f":"SUM(C28:C33)","v":385},{"$f":"SUM(D28:D33)","v":10.45},{"$f":"SUM(E28:E33)","v":11.98},{"$f":"SUM(F28:F33)","v":80.28999999999999},{"$f":"SUM(G28:G33)","v":381}," "]
["Итого за день"," ",{"$f":"SUM(C17+C20+C27+C34)","v":1344},{"$f":"SUM(D17+D20+D27+D34)","v":43.45},{"$f":"SUM(E17+E20+E27+E34)","v":39.260000000000005},{"$f":"SUM(F17+F20+F27+F34)","v":166.82},{"$f":"SUM(G17+G20+G27+G34)","v":1133}," "]

{"sheet":"ПТ1","index":13,"n_rows":38,"n_cols":8,"rows_kept":38,"merged":[[1,0,2,7],[4,5,4,6],[5,5,6,7],[8,0,8,7],[9,0,10,0],[9,1,10,1],[9,2,10,2],[9,3,9,5],[9,6,10,6],[9,7,10,7],[11,0,11,6],[12,0,14,0],[20,0,26,0],[29,0,34,0]]}
[]
["Муниципальное бюджетное дошкольное образовательное учреждение Петрозаводского городского округа «Детский сад общеразвивающего вида с приоритетным осуществлением деятельности по художестенно-эстетическому развитию детей № 22 \"Яблонька"]
[]
[]
[{"$nulls":5},"УТВЕРЖДЕНО"]
[{"$nulls":5},"приказ  №                                                 Заведующий                     Г.В.Чанжалова"]
[]
[]
["ПЯТНИЦА"]
["Прием пищи","Наименование блюда","Вес блюда","Пищевые вещества  на порцию ",null,null,"Энергетическая ценность","№ рецептуры"]
[{"$nulls":3},"Белки","Жиры","Углеводы "]
["Вода питьевая детская (на весь день), 300мл"]
["Завтрак ","Каша манная молочная",150,4.43,4.92,16.02,126,90]
[null,"Кофейный напиток с молоком",180,3.2,2.27,9.4,68,414]
[null,"Бутерброд с маслом",34,2.31,3.14,14.81,127,1]
[]
["Итого за завтрак"," ",{"$f":"SUM(C13:C16)","v":364},{"$f":"SUM(D13:D16)","v":9.94},{"$f":"SUM(E13:E16)","v":10.33},{"$f":"SUM(F13:F16)","v":40.230000000000004},{"$f":"SUM(G13:G16)","v":321}]
["Второй завтрак","Сок",140,0.7,null,12.74,53,418]
[null,"Кондитерские изделия",10,0.56,0.61,7.35,41,151]
["Итого за второй  завтрак"]
["Обед"," ",{"$f":"SUM(C18:C20)","v":150},{"$f":"SUM(D20:D20)","v":0},{"$f":"SUM(E20:E20)","v":0},{"$f":"SUM(F20:F20)","v":0},{"$f":"SUM(G20:G20)","v":0}]
[null,"Суп картофельный с клецками",180,1.82,2.71,12.52,100,37]
[null,"Куриный бульон",135,14.54,13.77,0.34,182,39]
[null,"Курица в соусе с томатом",60,15.11,15.54,3.43,213,410]
[null,"Макароны отварные",110,3.12,3.23,19.31,119,219]
[null,"Морковь отварная кусочком",30,0.4,0.03,2.08,10,427]
[null,"Компот из сухофруктов",150,0.21,0,12.89,52,394]
[null,"Хлеб ржаной",35,2.31,0.42,11.69,60,1]
["Итого за обед",{"$nulls":6}," "]
["Уплотненный полдник"," ",{"$f":"SUM(C22:C29)","v":700},{"$f":"SUM(D22:D29)","v":37.51},{"$f":"SUM(E22:E29)","v":35.699999999999996},{"$f":"SUM(F22:F29)","v":62.25999999999999},{"$f":"SUM(G22:G29)","v":736}]
[null,"Рагу из овощей с мясом",180,8.66,8.52,15.06,168,77]
[null,"1/2 вареного яйца",50,0.12,0.1,0.01,141,209]
[null,"Чай с сахаром",180,0.06,0,4.99,20,263]
[null,"Хлеб пшеничный",30,2.28,0.24,14.76,70]
[null,"Фрукты",100,0.9,0.2,8.1,38,386]
["Итого за УП",{"$nulls":6}," "]
["Итого за день"," ",{"$f":"SUM(C31:C36)","v":540},{"$f":"SUM(D31:D36)","v":12.02},{"$f":"SUM(E31:E36)","v":9.059999999999999},{"$f":"SUM(F31:F36)","v":42.92},{"$f":"SUM(G31:G36)","v":437}," "]
[null," ",{"$f":"SUM(C17+C21+C30+C37)","v":1754},{"$f":"SUM(D17+D21+D30+D37)","v":59.47},{"$f":"SUM(E17+E21+E30+E37)","v":55.08999999999999},{"$f":"SUM(F17+F21+F30+F37)","v":145.41},{"$f":"SUM(G17+G21+G30+G37)","v":1494}]

{"sheet":"Среднее значение за период","index":14,"n_rows":4,"n_cols":6,"rows_kept":4,"merged":[[0,1,0,5],[1,1,2,1],[1,2,1,4],[1,5,2,5]]}
[null,"Среднее значение за период"]
[null,"Вес блюда","Пищевые вещества  на порцию ",null,null,"Энергетическая ценность"]
[null,null,"Белки","Жиры","Углеводы "]
[null,{"$f":"AVERAGE(ПН!C36+ВТ!C37+СР!C35+ЧТ!C36+ПТ!C33+ПН1!C35+ВТ1!C38+СР1!C36+ЧТ1!C35+ПТ1!C38)/10","v":1597.3},{"$f":"AVERAGE(ПН!D36+ВТ!D37+СР!D35+ЧТ!D36+ПТ!D33+ПН1!D35+ВТ1!D38+СР1!D36+ЧТ1!D35+ПТ1!D38)/10","v":50.246},{"$f":"AVERAGE(ПН!E36+ВТ!E37+СР!E35+ЧТ!E36+ПТ!E33+ПН1!E35+ВТ1!E38+СР1!E36+ЧТ1!E35+ПТ1!E38)/10","v":45.701},{"$f":"AVERAGE(ПН!F36+ВТ!F37+СР!F38+ЧТ!F37+ПТ!F34+ПН1!F34+ВТ1!F34+СР1!F39+СР1!F36+ЧТ1!F35+ПТ1!F38)/10","v":175.44700000000003},{"$f":"AVERAGE(ПН!G36+ВТ!G37+СР!G35+ЧТ!G36+ПТ!G33+ПН1!G35+ВТ1!G38+СР1!G36+ЧТ1!G35+ПТ1!G38)/10","v":1375.884}]